BEGIN:VCALENDAR
VERSION:2.0
PRODID:-//Professional Artists of Central Texas - ECPv6.15.20//NONSGML v1.0//EN
CALSCALE:GREGORIAN
METHOD:PUBLISH
X-WR-CALNAME:Professional Artists of Central Texas
X-ORIGINAL-URL:https://pactart.org
X-WR-CALDESC:Events for Professional Artists of Central Texas
REFRESH-INTERVAL;VALUE=DURATION:PT1H
X-Robots-Tag:noindex
X-PUBLISHED-TTL:PT1H
BEGIN:VTIMEZONE
TZID:America/Chicago
BEGIN:DAYLIGHT
TZOFFSETFROM:-0600
TZOFFSETTO:-0500
TZNAME:CDT
DTSTART:20240310T080000
END:DAYLIGHT
BEGIN:STANDARD
TZOFFSETFROM:-0500
TZOFFSETTO:-0600
TZNAME:CST
DTSTART:20241103T070000
END:STANDARD
BEGIN:DAYLIGHT
TZOFFSETFROM:-0600
TZOFFSETTO:-0500
TZNAME:CDT
DTSTART:20250309T080000
END:DAYLIGHT
BEGIN:STANDARD
TZOFFSETFROM:-0500
TZOFFSETTO:-0600
TZNAME:CST
DTSTART:20251102T070000
END:STANDARD
BEGIN:DAYLIGHT
TZOFFSETFROM:-0600
TZOFFSETTO:-0500
TZNAME:CDT
DTSTART:20260308T080000
END:DAYLIGHT
BEGIN:STANDARD
TZOFFSETFROM:-0500
TZOFFSETTO:-0600
TZNAME:CST
DTSTART:20261101T070000
END:STANDARD
END:VTIMEZONE
BEGIN:VEVENT
DTSTART;VALUE=DATE:20250516
DTEND;VALUE=DATE:20250628
DTSTAMP:20260423T012308
CREATED:20250325T202844Z
LAST-MODIFIED:20250325T203459Z
UID:1154-1747353600-1751068799@pactart.org
SUMMARY:Beyond Blue at Cultural Activities Center - Temple TX
DESCRIPTION:A PACT member group show at the Cultural Activities Center in Temple TX. \nShow opens: May 16\, 2025 \nShow ends: June 27\, 2025
URL:https://pactart.org/event/beyond-blue-at-cultural-activities-center-temple-tx/
LOCATION:Cultural Activities Center\, 3011 N 3rd St.\, Temple\, TX\, United States
CATEGORIES:shows
ATTACH;FMTTYPE=image/png:https://pactart.org/wp-content/uploads/2025/03/Beyond-Blue-instagram.png
END:VEVENT
END:VCALENDAR