BEGIN:VCALENDAR
VERSION:2.0
PRODID:-//Professional Artists of Central Texas - ECPv6.15.20//NONSGML v1.0//EN
CALSCALE:GREGORIAN
METHOD:PUBLISH
X-ORIGINAL-URL:https://pactart.org
X-WR-CALDESC:Events for Professional Artists of Central Texas
REFRESH-INTERVAL;VALUE=DURATION:PT1H
X-Robots-Tag:noindex
X-PUBLISHED-TTL:PT1H
BEGIN:VTIMEZONE
TZID:America/Chicago
BEGIN:DAYLIGHT
TZOFFSETFROM:-0600
TZOFFSETTO:-0500
TZNAME:CDT
DTSTART:20220313T080000
END:DAYLIGHT
BEGIN:STANDARD
TZOFFSETFROM:-0500
TZOFFSETTO:-0600
TZNAME:CST
DTSTART:20221106T070000
END:STANDARD
BEGIN:DAYLIGHT
TZOFFSETFROM:-0600
TZOFFSETTO:-0500
TZNAME:CDT
DTSTART:20230312T080000
END:DAYLIGHT
BEGIN:STANDARD
TZOFFSETFROM:-0500
TZOFFSETTO:-0600
TZNAME:CST
DTSTART:20231105T070000
END:STANDARD
BEGIN:DAYLIGHT
TZOFFSETFROM:-0600
TZOFFSETTO:-0500
TZNAME:CDT
DTSTART:20240310T080000
END:DAYLIGHT
BEGIN:STANDARD
TZOFFSETFROM:-0500
TZOFFSETTO:-0600
TZNAME:CST
DTSTART:20241103T070000
END:STANDARD
END:VTIMEZONE
BEGIN:VEVENT
DTSTART;TZID=America/Chicago:20230801T080000
DTEND;TZID=America/Chicago:20230801T170000
DTSTAMP:20260424T132855
CREATED:20230622T184505Z
LAST-MODIFIED:20230622T184505Z
UID:612-1690876800-1690909200@pactart.org
SUMMARY:Art Drop-Off
DESCRIPTION:Drop off art for Degallery show. 10am-5pm \nSocial event planning is underway for a meeting and/or gathering for PACT members and details will be added as they are finalized.
URL:https://pactart.org/event/art-drop-off/
LOCATION:Degallery\, 930 N Rosemary St\, Bryan\, TX\, United States
CATEGORIES:shows
ATTACH;FMTTYPE=image/png:https://pactart.org/wp-content/uploads/2023/05/027-image-gallery.png
END:VEVENT
END:VCALENDAR