BEGIN:VCALENDAR
VERSION:2.0
PRODID:-//Professional Artists of Central Texas - ECPv6.15.20//NONSGML v1.0//EN
CALSCALE:GREGORIAN
METHOD:PUBLISH
X-WR-CALNAME:Professional Artists of Central Texas
X-ORIGINAL-URL:https://pactart.org
X-WR-CALDESC:Events for Professional Artists of Central Texas
REFRESH-INTERVAL;VALUE=DURATION:PT1H
X-Robots-Tag:noindex
X-PUBLISHED-TTL:PT1H
BEGIN:VTIMEZONE
TZID:America/Chicago
BEGIN:DAYLIGHT
TZOFFSETFROM:-0600
TZOFFSETTO:-0500
TZNAME:CDT
DTSTART:20220313T080000
END:DAYLIGHT
BEGIN:STANDARD
TZOFFSETFROM:-0500
TZOFFSETTO:-0600
TZNAME:CST
DTSTART:20221106T070000
END:STANDARD
BEGIN:DAYLIGHT
TZOFFSETFROM:-0600
TZOFFSETTO:-0500
TZNAME:CDT
DTSTART:20230312T080000
END:DAYLIGHT
BEGIN:STANDARD
TZOFFSETFROM:-0500
TZOFFSETTO:-0600
TZNAME:CST
DTSTART:20231105T070000
END:STANDARD
BEGIN:DAYLIGHT
TZOFFSETFROM:-0600
TZOFFSETTO:-0500
TZNAME:CDT
DTSTART:20240310T080000
END:DAYLIGHT
BEGIN:STANDARD
TZOFFSETFROM:-0500
TZOFFSETTO:-0600
TZNAME:CST
DTSTART:20241103T070000
END:STANDARD
END:VTIMEZONE
BEGIN:VEVENT
DTSTART;TZID=America/Chicago:20230804T183000
DTEND;TZID=America/Chicago:20230829T170000
DTSTAMP:20260424T132547
CREATED:20230506T074351Z
LAST-MODIFIED:20230818T215732Z
UID:199-1691173800-1693328400@pactart.org
SUMMARY:PACT Members @ Degallery 2023 - ART à la Carte
DESCRIPTION:This group exhibition features PACT members. Opening reception is 6:30 pm\, Friday\, August 4\, 2023. Art will remain on display through August 29th.
URL:https://pactart.org/event/show-degallery-2023/
LOCATION:Degallery\, 930 N Rosemary St\, Bryan\, TX\, United States
CATEGORIES:shows
ATTACH;FMTTYPE=image/png:https://pactart.org/wp-content/uploads/2023/05/003-gallery.png
END:VEVENT
END:VCALENDAR