BEGIN:VCALENDAR
VERSION:2.0
PRODID:-//Professional Artists of Central Texas - ECPv6.15.20//NONSGML v1.0//EN
CALSCALE:GREGORIAN
METHOD:PUBLISH
X-WR-CALNAME:Professional Artists of Central Texas
X-ORIGINAL-URL:https://pactart.org
X-WR-CALDESC:Events for Professional Artists of Central Texas
REFRESH-INTERVAL;VALUE=DURATION:PT1H
X-Robots-Tag:noindex
X-PUBLISHED-TTL:PT1H
BEGIN:VTIMEZONE
TZID:America/Chicago
BEGIN:DAYLIGHT
TZOFFSETFROM:-0600
TZOFFSETTO:-0500
TZNAME:CDT
DTSTART:20230312T080000
END:DAYLIGHT
BEGIN:STANDARD
TZOFFSETFROM:-0500
TZOFFSETTO:-0600
TZNAME:CST
DTSTART:20231105T070000
END:STANDARD
BEGIN:DAYLIGHT
TZOFFSETFROM:-0600
TZOFFSETTO:-0500
TZNAME:CDT
DTSTART:20240310T080000
END:DAYLIGHT
BEGIN:STANDARD
TZOFFSETFROM:-0500
TZOFFSETTO:-0600
TZNAME:CST
DTSTART:20241103T070000
END:STANDARD
BEGIN:DAYLIGHT
TZOFFSETFROM:-0600
TZOFFSETTO:-0500
TZNAME:CDT
DTSTART:20250309T080000
END:DAYLIGHT
BEGIN:STANDARD
TZOFFSETFROM:-0500
TZOFFSETTO:-0600
TZNAME:CST
DTSTART:20251102T070000
END:STANDARD
END:VTIMEZONE
BEGIN:VEVENT
DTSTART;VALUE=DATE:20240212
DTEND;VALUE=DATE:20240429
DTSTAMP:20260424T033919
CREATED:20231105T225028Z
LAST-MODIFIED:20240304T222021Z
UID:724-1707696000-1714348799@pactart.org
SUMMARY:Gallery at Texas State University Round Rock Campus
DESCRIPTION:A Collection of Perspectives: an art show featuring our members’ art pieces — created and displayed for community members to enjoy and purchase. \n1555 University Ave.\, Round Rock\, TX: Avery Building\, 3rd & 4th floors. \nFor parking info\, please go here: https://www.parking.txstate.edu/round-rock.html \nHosts Round Rock Arts exhibits 4 times per year on Avery Building’s 3rd & 4th floors. \n 
URL:https://pactart.org/event/gallery-at-texas-state-university-round-rock-campus/
LOCATION:Gallery at TXST Round Rock\, 1515 University Ave\, Round Rock\, TX\, 78666\, United States
CATEGORIES:shows
ATTACH;FMTTYPE=image/png:https://pactart.org/wp-content/uploads/2023/11/PACTshowsRR.png
END:VEVENT
END:VCALENDAR