BEGIN:VCALENDAR
VERSION:2.0
PRODID:-//Professional Artists of Central Texas - ECPv6.15.20//NONSGML v1.0//EN
CALSCALE:GREGORIAN
METHOD:PUBLISH
X-WR-CALNAME:Professional Artists of Central Texas
X-ORIGINAL-URL:https://pactart.org
X-WR-CALDESC:Events for Professional Artists of Central Texas
REFRESH-INTERVAL;VALUE=DURATION:PT1H
X-Robots-Tag:noindex
X-PUBLISHED-TTL:PT1H
BEGIN:VTIMEZONE
TZID:America/Chicago
BEGIN:DAYLIGHT
TZOFFSETFROM:-0600
TZOFFSETTO:-0500
TZNAME:CDT
DTSTART:20230312T080000
END:DAYLIGHT
BEGIN:STANDARD
TZOFFSETFROM:-0500
TZOFFSETTO:-0600
TZNAME:CST
DTSTART:20231105T070000
END:STANDARD
BEGIN:DAYLIGHT
TZOFFSETFROM:-0600
TZOFFSETTO:-0500
TZNAME:CDT
DTSTART:20240310T080000
END:DAYLIGHT
BEGIN:STANDARD
TZOFFSETFROM:-0500
TZOFFSETTO:-0600
TZNAME:CST
DTSTART:20241103T070000
END:STANDARD
BEGIN:DAYLIGHT
TZOFFSETFROM:-0600
TZOFFSETTO:-0500
TZNAME:CDT
DTSTART:20250309T080000
END:DAYLIGHT
BEGIN:STANDARD
TZOFFSETFROM:-0500
TZOFFSETTO:-0600
TZNAME:CST
DTSTART:20251102T070000
END:STANDARD
BEGIN:DAYLIGHT
TZOFFSETFROM:-0600
TZOFFSETTO:-0500
TZNAME:CDT
DTSTART:20260308T080000
END:DAYLIGHT
BEGIN:STANDARD
TZOFFSETFROM:-0500
TZOFFSETTO:-0600
TZNAME:CST
DTSTART:20261101T070000
END:STANDARD
END:VTIMEZONE
BEGIN:VEVENT
DTSTART;VALUE=DATE:20241118
DTEND;VALUE=DATE:20250111
DTSTAMP:20260423T113123
CREATED:20231105T233205Z
LAST-MODIFIED:20241012T205724Z
UID:742-1731888000-1736553599@pactart.org
SUMMARY:The Woodlands Art Gallery & Studios
DESCRIPTION:A Collection of Perspectives: an art show featuring our members’ art pieces — created and displayed for community members to enjoy and purchase. \nCheck back for reception information. \n  \nTuesday – Friday: 10 AM – 6 PM\nSaturday: 10 AM – 2 PM\nSunday – Monday: Closed \n208 Nursery Road\nThe Woodlands\, Texas 77380\n(2 blocks west of I45 between Woodlands Parkway and Sawdust Road) \n832-668-5340 \ninquiries@woodlandsartandstudios.com
URL:https://pactart.org/event/the-woodlands-art-gallery-studios/
LOCATION:The Woodlands Art Galleries & Studio\, 208 Nursery Road\, The Woodlands\, TX\, 77380\, United States
CATEGORIES:shows
ATTACH;FMTTYPE=image/png:https://pactart.org/wp-content/uploads/2023/11/2023-11-05_17-27-17.png
END:VEVENT
END:VCALENDAR